BEGIN:VCALENDAR
VERSION:2.0
PRODID:-//Remember 6 - ECPv6.15.20//NONSGML v1.0//EN
CALSCALE:GREGORIAN
METHOD:PUBLISH
X-ORIGINAL-URL:https://remember6.org
X-WR-CALDESC:Events for Remember 6
REFRESH-INTERVAL;VALUE=DURATION:PT1H
X-Robots-Tag:noindex
X-PUBLISHED-TTL:PT1H
BEGIN:VTIMEZONE
TZID:UTC
BEGIN:STANDARD
TZOFFSETFROM:+0000
TZOFFSETTO:+0000
TZNAME:UTC
DTSTART:20250101T000000
END:STANDARD
END:VTIMEZONE
BEGIN:VEVENT
DTSTART;TZID=UTC:20260419T140000
DTEND;TZID=UTC:20260419T160000
DTSTAMP:20260422T095814
CREATED:20260126T132330Z
LAST-MODIFIED:20260225T131423Z
UID:23055-1776607200-1776614400@remember6.org
SUMMARY:2026 DENVER HOLOCAUST REMEMBRANCE
DESCRIPTION:Honoring survivors\, victims\, and their families through purposeful remembrance. This year\, we focus on the lived experiences of those who witnessed history and the vital importance of standing against antisemitism today. \n\n\n\n\n\n\nOscar “Osi” Sladek\nBorn in Czechoslovakia\, Osi survived the winter in the Tatra mountains after his family went into hiding. A celebrated musician and community activist in Denver\, he is the author of “Escape to the Tatras.” \n\n\n\n\n\nAsher Ben Basat\nA survivor from Plovdiv\, Bulgaria. Asher recalls the dread of forced labor camps and a miraculous escape from a train headed to Treblinka. He now shares his story to ensure these memories are never lost. \n\n\n\n\n\nDavid Zapiler\nAt just 7 years old\, David’s life changed forever. He survived the harsh conditions of a Siberian slave labor camp and later found refuge in Kazakhstan before the war’s end. \n\n\n\n\n\nBarbara Steinmetz\nBarbara’s family fled through Europe to the Dominican Republic to escape Hitler’s reach. She is a dedicated educator on the Holocaust\, living by the motto: “Silence is the enemy.” \n\n\n\n\n\n\nSpecial Testimony\nHannah Sperber\nHannah provides a unique perspective on the war. Raised in a Nazi home\, she later converted to Judaism and raised a Jewish family. Her story serves as a powerful testament to the capacity for change and the pursuit of truth.
URL:https://remember6.org/event/2026-denver-holocaust-remembrance/
CATEGORIES:Remembrance
ATTACH;FMTTYPE=image/jpeg:https://remember6.org/wp-content/uploads/2026/01/WhatsApp-Image-2026-02-17-at-16.54.39.jpeg
END:VEVENT
END:VCALENDAR